BEGIN:VCALENDAR
VERSION:2.0
CALSCALE:GREGORIAN
PRODID:-//Diputació de Barcelona//DibaCMS//EN
BEGIN:VEVENT
UID:4571
DTSTAMP:20260422T063226
DTSTART:20190831T220000
DTEND:20190831T235500
SUMMARY:Concert de Visacos
LOCATION:
METHOD:PUBLISH
X-WR-CALNAME:capellades@capellades.cat
X-WR-TIMEZONE:Europe/Madrid
DESCRIPTION:El darre dia d'agost, a les 10 de la nit, al Pati de La Lliga, concert-ball amb Visacos.

URI:https://www.capellades.cat/actualitat/agenda/concert-de-visacos.html
CLASS:PUBLIC
END:VEVENT
END:VCALENDAR
