BEGIN:VCALENDAR
VERSION:2.0
CALSCALE:GREGORIAN
PRODID:-//Diputació de Barcelona//DibaCMS//EN
BEGIN:VEVENT
UID:4570
DTSTAMP:20260421T104147
DTSTART:20190811T193000
DTEND:20190818T210000
SUMMARY:Exposició retrospectiva en homenatge i record a Toni Miquel Oliva
LOCATION:
METHOD:PUBLISH
X-WR-CALNAME:capellades@capellades.cat
X-WR-TIMEZONE:Europe/Madrid
DESCRIPTION:Dins els actes previstos dins la jornada del V Capvespre d'Art, hi ha la inauguració de l'exposició en homenatge/Record a Toni Miquel Oliva.

URI:https://www.capellades.cat/actualitat/agenda/exposicio-retrospectiva-en-homenatge-i-record-a-toni-miquel-oliva.html
CLASS:PUBLIC
END:VEVENT
END:VCALENDAR
