BEGIN:VCALENDAR
VERSION:2.0
CALSCALE:GREGORIAN
PRODID:-//Diputació de Barcelona//DibaCMS//EN
BEGIN:VEVENT
UID:4568
DTSTAMP:20260421T142608
DTSTART:20190810T220000
DTEND:20190810T233000
SUMMARY:II Gran Sopar i Bingo Disco de les entitats
LOCATION:
METHOD:PUBLISH
X-WR-CALNAME:capellades@capellades.cat
X-WR-TIMEZONE:Europe/Madrid
DESCRIPTION:Els Gegants de Capellades, el Club de Futbol Sala, el Club d’Hoquei i el Club de Futbol Sala Capellades tornen a unir forces per repetir el sopar-bingo-disco.

URI:https://www.capellades.cat/actualitat/agenda/ii-gran-sopar-i-bingo-disco-de-les-entitats.html
CLASS:PUBLIC
END:VEVENT
END:VCALENDAR
