BEGIN:VCALENDAR
VERSION:2.0
CALSCALE:GREGORIAN
PRODID:-//Diputació de Barcelona//DibaCMS//EN
BEGIN:VEVENT
UID:4567
DTSTAMP:20260420T091941
DTSTART:20190810T200000
DTEND:20190810T213000
SUMMARY:El grup Teatral de Capellades presenta "El Nom"
LOCATION:
METHOD:PUBLISH
X-WR-CALNAME:capellades@capellades.cat
X-WR-TIMEZONE:Europe/Madrid
DESCRIPTION:El dissabte 10 el Grup Teatral de Capellades estrenarà a les 8 del vespre al Teatre La Lliga, "El Nom".

URI:https://www.capellades.cat/actualitat/agenda/el-grup-teatral-de-capellades-presenta-el-nom.html
CLASS:PUBLIC
END:VEVENT
END:VCALENDAR
