BEGIN:VCALENDAR
VERSION:2.0
CALSCALE:GREGORIAN
PRODID:-//Diputació de Barcelona//DibaCMS//EN
BEGIN:VEVENT
UID:4566
DTSTAMP:20260419T232614
DTSTART:20190814T123000
DTEND:20190901T203000
SUMMARY:Exposició a Casa Bas amb Roser Teixidó
LOCATION:
METHOD:PUBLISH
X-WR-CALNAME:capellades@capellades.cat
X-WR-TIMEZONE:Europe/Madrid
DESCRIPTION:La inauguració dels treballs de pintura i escultura de Roser Teixidó a Casa Bas, serà el dimecres 14 d'agost a dos quarts d'1 del migdia.

URI:https://www.capellades.cat/actualitat/agenda/exposicio-a-casa-bas-amb-roser-teixido.html
CLASS:PUBLIC
END:VEVENT
END:VCALENDAR
