BEGIN:VCALENDAR
VERSION:2.0
CALSCALE:GREGORIAN
PRODID:-//Diputació de Barcelona//DibaCMS//EN
BEGIN:VEVENT
UID:4565
DTSTAMP:20260421T101510
DTSTART:20190816T220000
DTEND:20190817T060000
SUMMARY:Nit de les Barraques
LOCATION:
METHOD:PUBLISH
X-WR-CALNAME:capellades@capellades.cat
X-WR-TIMEZONE:Europe/Madrid
DESCRIPTION:La Nit de les Barraques començarà a la plaça Catalunya a partir de les 10 de la nit amb les propostes gastronòmiques de Falcons, Dimonis, Club d'Hoquei, Club de Futbol i Club de Futbol Sala.

URI:https://www.capellades.cat/actualitat/agenda/4565-nit-de-les-barraques.html
CLASS:PUBLIC
END:VEVENT
END:VCALENDAR
