BEGIN:VCALENDAR
VERSION:2.0
CALSCALE:GREGORIAN
PRODID:-//Diputació de Barcelona//DibaCMS//EN
BEGIN:VEVENT
UID:4564
DTSTAMP:20260420T042313
DTSTART:20190805T010000
DTEND:20190819T000000
SUMMARY:Programa d'actes de la Festa Major de Capellades
LOCATION:
METHOD:PUBLISH
X-WR-CALNAME:capellades@capellades.cat
X-WR-TIMEZONE:Europe/Madrid
DESCRIPTION:Aquí et pots descarregar tots els actes de la Festa Major de Capellades.

URI:https://www.capellades.cat/actualitat/agenda/4564-programa-dactes-de-la-festa-major-de-capellades.html
CLASS:PUBLIC
END:VEVENT
END:VCALENDAR
