BEGIN:VCALENDAR
VERSION:2.0
CALSCALE:GREGORIAN
PRODID:-//Diputació de Barcelona//DibaCMS//EN
BEGIN:VEVENT
UID:4562
DTSTAMP:20260421T185235
DTSTART:20190811T190000
DTEND:20190811T220000
SUMMARY:V Capvespre d'Art
LOCATION:
METHOD:PUBLISH
X-WR-CALNAME:capellades@capellades.cat
X-WR-TIMEZONE:Europe/Madrid
DESCRIPTION:Nova edició, ja la cinquena, d'aquesta exposició col·lectiva d'artistes capelladins que mostren els seus treballs en pintura fotografia, escultura, treballs artístics i àudio-visuals entre d'altres.

URI:https://www.capellades.cat/actualitat/agenda/v-capvespre-dart.html
CLASS:PUBLIC
END:VEVENT
END:VCALENDAR
