BEGIN:VCALENDAR
VERSION:2.0
CALSCALE:GREGORIAN
PRODID:-//Diputació de Barcelona//DibaCMS//EN
BEGIN:VEVENT
UID:4561
DTSTAMP:20260420T002023
DTSTART:20190809T000000
DTEND:20190818T000000
SUMMARY:3r. Concurs Fotogràfic "Festa Major de Capellades 2019"
LOCATION:
METHOD:PUBLISH
X-WR-CALNAME:capellades@capellades.cat
X-WR-TIMEZONE:Europe/Madrid
DESCRIPTION:Aquí pots veure les bases per la tercera edició del Concurs Fotogràfic "Festa Major de Capellades 2019".

URI:https://www.capellades.cat/actualitat/agenda/3r-concurs-fotografic-festa-major-de-capellades-2019.html
CLASS:PUBLIC
END:VEVENT
END:VCALENDAR
