BEGIN:VCALENDAR
VERSION:2.0
CALSCALE:GREGORIAN
PRODID:-//Diputació de Barcelona//DibaCMS//EN
BEGIN:VEVENT
UID:4560
DTSTAMP:20260420T021110
DTSTART:20190808T220000
DTEND:20190808T235000
SUMMARY:Pre-estrena del documental Des-extinción
LOCATION:
METHOD:PUBLISH
X-WR-CALNAME:capellades@capellades.cat
X-WR-TIMEZONE:Europe/Madrid
DESCRIPTION:Aquest dijous 8 d'agost es farà a l'Abric Romaní la pre-estrena del documental "Des-Extinción".

URI:https://www.capellades.cat/actualitat/agenda/pre-estrena-del-documental-des-extincion.html
CLASS:PUBLIC
END:VEVENT
END:VCALENDAR
