BEGIN:VCALENDAR
VERSION:2.0
CALSCALE:GREGORIAN
PRODID:-//Diputació de Barcelona//DibaCMS//EN
BEGIN:VEVENT
UID:4540
DTSTAMP:20260419T182604
DTSTART:20190805T100000
DTEND:20190828T190000
SUMMARY:Nova campanya d'excavació a l'Abric Romaní de Capellades
LOCATION:
METHOD:PUBLISH
X-WR-CALNAME:capellades@capellades.cat
X-WR-TIMEZONE:Europe/Madrid
DESCRIPTION:Aquest estiu s'arribarà ja a la campanya d'excavació número 37 de l'Abric Romaní.

URI:https://www.capellades.cat/actualitat/agenda/4540-nova-campanya-dexcavacio-a-labric-romani-de-capellades.html
CLASS:PUBLIC
END:VEVENT
END:VCALENDAR
