BEGIN:VCALENDAR
VERSION:2.0
CALSCALE:GREGORIAN
PRODID:-//Diputació de Barcelona//DibaCMS//EN
BEGIN:VEVENT
UID:4538
DTSTAMP:20260421T173452
DTSTART:20190730T190000
DTEND:20190730T194500
SUMMARY:Festa final aiguagim
LOCATION:
METHOD:PUBLISH
X-WR-CALNAME:capellades@capellades.cat
X-WR-TIMEZONE:Europe/Madrid
DESCRIPTION:Festa final per acomiadar les classes d'aiguagim.

URI:https://www.capellades.cat/actualitat/agenda/festa-final-aiguagim.html
CLASS:PUBLIC
END:VEVENT
END:VCALENDAR
