BEGIN:VCALENDAR
VERSION:2.0
CALSCALE:GREGORIAN
PRODID:-//Diputació de Barcelona//DibaCMS//EN
BEGIN:VEVENT
UID:4532
DTSTAMP:20260421T131449
DTSTART:20190726T220000
DTEND:20190726T235500
SUMMARY:Espectacle de ball i claqué
LOCATION:
METHOD:PUBLISH
X-WR-CALNAME:capellades@capellades.cat
X-WR-TIMEZONE:Europe/Madrid
DESCRIPTION:Espectacle i ball per al divendres 26 de juliol,  a les 10 del vespre, al Pati de la Lliga. L'entrada és la consumició.

URI:https://www.capellades.cat/actualitat/agenda/espectacle-de-ball-i-claque.html
CLASS:PUBLIC
END:VEVENT
END:VCALENDAR
