BEGIN:VCALENDAR
VERSION:2.0
CALSCALE:GREGORIAN
PRODID:-//Diputació de Barcelona//DibaCMS//EN
BEGIN:VEVENT
UID:4530
DTSTAMP:20260421T104248
DTSTART:20190724T220000
DTEND:20190724T235500
SUMMARY:Dimecres de cinema amb "Bohemian Rapsody"
LOCATION:
METHOD:PUBLISH
X-WR-CALNAME:capellades@capellades.cat
X-WR-TIMEZONE:Europe/Madrid
DESCRIPTION:El darrer dimecres de Cinema a La Lliga serà per la pel·lícula "Bohemian Rapsody".

URI:https://www.capellades.cat/actualitat/agenda/dimecres-de-cinema-amb-bohemian-rapsody.html
CLASS:PUBLIC
END:VEVENT
END:VCALENDAR
