BEGIN:VCALENDAR
VERSION:2.0
CALSCALE:GREGORIAN
PRODID:-//Diputació de Barcelona//DibaCMS//EN
BEGIN:VEVENT
UID:4510
DTSTAMP:20260420T033616
DTSTART:20190714T180000
DTEND:20190714T180000
SUMMARY:Festa final de curs llar infants
LOCATION:
METHOD:PUBLISH
X-WR-CALNAME:capellades@capellades.cat
X-WR-TIMEZONE:Europe/Madrid
DESCRIPTION:Els més petits i les més petites celebraran que s'acaba el seu curs, el diumenge a les 6 de la tarda a la llar d'infants.

URI:https://www.capellades.cat/actualitat/agenda/4510-festa-final-de-curs-llar-infants.html
CLASS:PUBLIC
END:VEVENT
END:VCALENDAR
