BEGIN:VCALENDAR
VERSION:2.0
CALSCALE:GREGORIAN
PRODID:-//Diputació de Barcelona//DibaCMS//EN
BEGIN:VEVENT
UID:4509
DTSTAMP:20260422T132808
DTSTART:20190714T130000
DTEND:20190714T140000
SUMMARY:Concert vermut a La Lliga
LOCATION:
METHOD:PUBLISH
X-WR-CALNAME:capellades@capellades.cat
X-WR-TIMEZONE:Europe/Madrid
DESCRIPTION:A la Cafeteria de la Lliga a la una del migdia.

URI:https://www.capellades.cat/actualitat/agenda/4509-concert-vermut-a-la-lliga.html
CLASS:PUBLIC
END:VEVENT
END:VCALENDAR
