BEGIN:VCALENDAR
VERSION:2.0
CALSCALE:GREGORIAN
PRODID:-//Diputació de Barcelona//DibaCMS//EN
BEGIN:VEVENT
UID:4505
DTSTAMP:20260420T033540
DTSTART:20190713T190000
DTEND:20190713T200000
SUMMARY:Inauguració de l'exposició col·lectiva Agrupació Fotogràfica
LOCATION:
METHOD:PUBLISH
X-WR-CALNAME:capellades@capellades.cat
X-WR-TIMEZONE:Europe/Madrid
DESCRIPTION:Aquest dissabte 13 de juliol s'inaugura l'exposició col·lectiva dels socis de l'Agrupació Fotogràfica.

URI:https://www.capellades.cat/actualitat/agenda/inauguracio-de-lexposicio-collectiva-agrupacio-fotografica.html
CLASS:PUBLIC
END:VEVENT
END:VCALENDAR
