BEGIN:VCALENDAR
VERSION:2.0
CALSCALE:GREGORIAN
PRODID:-//Diputació de Barcelona//DibaCMS//EN
BEGIN:VEVENT
UID:4504
DTSTAMP:20260420T093311
DTSTART:20190712T220000
DTEND:20190712T235500
SUMMARY:Concert amb Big George
LOCATION:
METHOD:PUBLISH
X-WR-CALNAME:capellades@capellades.cat
X-WR-TIMEZONE:Europe/Madrid
DESCRIPTION:El concert serà aquest divendres 12 de juliol a les 10 del vespre, al Pati de la Lliga. L'entrada és la consumició.

 

URI:https://www.capellades.cat/actualitat/agenda/concert-amb-big-george.html
CLASS:PUBLIC
END:VEVENT
END:VCALENDAR
