BEGIN:VCALENDAR
VERSION:2.0
CALSCALE:GREGORIAN
PRODID:-//Diputació de Barcelona//DibaCMS//EN
BEGIN:VEVENT
UID:4503
DTSTAMP:20260420T020357
DTSTART:20190712T200000
DTEND:20190712T235500
SUMMARY:Tercera edició de la Piscina Nocturna
LOCATION:
METHOD:PUBLISH
X-WR-CALNAME:capellades@capellades.cat
X-WR-TIMEZONE:Europe/Madrid
DESCRIPTION:Aquest és el darrer divendres de juliol que es fa la Piscina Nocturna.

URI:https://www.capellades.cat/actualitat/agenda/tercera-edicio-de-la-piscina-nocturna.html
CLASS:PUBLIC
END:VEVENT
END:VCALENDAR
