BEGIN:VCALENDAR
VERSION:2.0
CALSCALE:GREGORIAN
PRODID:-//Diputació de Barcelona//DibaCMS//EN
BEGIN:VEVENT
UID:4500
DTSTAMP:20260420T051150
DTSTART:20190711T153000
DTEND:20190711T190000
SUMMARY:Visita del SIAD
LOCATION:
METHOD:PUBLISH
X-WR-CALNAME:capellades@capellades.cat
X-WR-TIMEZONE:Europe/Madrid
DESCRIPTION:Aquest mes de juliol la visita del SIAD serà el dijous 11 de juliol.

URI:https://www.capellades.cat/actualitat/agenda/4500-visita-del-siad.html
CLASS:PUBLIC
END:VEVENT
END:VCALENDAR
