BEGIN:VCALENDAR
VERSION:2.0
CALSCALE:GREGORIAN
PRODID:-//Diputació de Barcelona//DibaCMS//EN
BEGIN:VEVENT
UID:4496
DTSTAMP:20260420T051208
DTSTART:20190710T220000
DTEND:20190710T235500
SUMMARY:Cinema a La Lliga
LOCATION:
METHOD:PUBLISH
X-WR-CALNAME:capellades@capellades.cat
X-WR-TIMEZONE:Europe/Madrid
DESCRIPTION:A les 10 de la nit, al Pati de La Lliga, comença la projecció del film, basat als anys 60, "Green book".

URI:https://www.capellades.cat/actualitat/agenda/4496-cinema-a-la-lliga.html
CLASS:PUBLIC
END:VEVENT
END:VCALENDAR
