BEGIN:VCALENDAR
VERSION:2.0
CALSCALE:GREGORIAN
PRODID:-//Diputació de Barcelona//DibaCMS//EN
BEGIN:VEVENT
UID:4493
DTSTAMP:20260421T185450
DTSTART:20190706T210000
DTEND:20190706T235500
SUMMARY:Sopar musical a la fresca
LOCATION:
METHOD:PUBLISH
X-WR-CALNAME:capellades@capellades.cat
X-WR-TIMEZONE:Europe/Madrid
DESCRIPTION:Els Amics de la Virgen de la Cabeza organitzen un sopar musical a la fresca.

URI:https://www.capellades.cat/actualitat/agenda/sopar-musical-a-la-fresca.html
CLASS:PUBLIC
END:VEVENT
END:VCALENDAR
