BEGIN:VCALENDAR
VERSION:2.0
CALSCALE:GREGORIAN
PRODID:-//Diputació de Barcelona//DibaCMS//EN
BEGIN:VEVENT
UID:4492
DTSTAMP:20260421T155917
DTSTART:20190705T220000
DTEND:20190705T235500
SUMMARY:Espectacle i nit de ball
LOCATION:
METHOD:PUBLISH
X-WR-CALNAME:capellades@capellades.cat
X-WR-TIMEZONE:Europe/Madrid
DESCRIPTION:Aquest divendres 5 de juliol a les 10 de la nit, al Pati de la Lliga, espectacle i ball. L'entrada és la consumició.

URI:https://www.capellades.cat/actualitat/agenda/espectacle-i-nit-de-ball.html
CLASS:PUBLIC
END:VEVENT
END:VCALENDAR
