BEGIN:VCALENDAR
VERSION:2.0
CALSCALE:GREGORIAN
PRODID:-//Diputació de Barcelona//DibaCMS//EN
BEGIN:VEVENT
UID:4491
DTSTAMP:20260420T092216
DTSTART:20190705T200000
DTEND:20190705T235500
SUMMARY:Piscina nocturna
LOCATION:
METHOD:PUBLISH
X-WR-CALNAME:capellades@capellades.cat
X-WR-TIMEZONE:Europe/Madrid
DESCRIPTION:Aquest divendres es fa una nova edició de la Piscina Nocturna.

URI:https://www.capellades.cat/actualitat/agenda/4491-piscina-nocturna.html
CLASS:PUBLIC
END:VEVENT
END:VCALENDAR
