BEGIN:VCALENDAR
VERSION:2.0
CALSCALE:GREGORIAN
PRODID:-//Diputació de Barcelona//DibaCMS//EN
BEGIN:VEVENT
UID:4490
DTSTAMP:20260420T024344
DTSTART:20190705T190000
DTEND:20190705T235500
SUMMARY:Festa Nit d'Estiu C/ Sarrià de Ter
LOCATION:
METHOD:PUBLISH
X-WR-CALNAME:capellades@capellades.cat
X-WR-TIMEZONE:Europe/Madrid
DESCRIPTION:Els veïns del carrer Sarrià de Ter organitzen de nou un sopar al carrer.

URI:https://www.capellades.cat/actualitat/agenda/festa-nit-destiu-c-sarria-de-ter.html
CLASS:PUBLIC
END:VEVENT
END:VCALENDAR
