BEGIN:VCALENDAR
VERSION:2.0
CALSCALE:GREGORIAN
PRODID:-//Diputació de Barcelona//DibaCMS//EN
BEGIN:VEVENT
UID:4489
DTSTAMP:20260421T125945
DTSTART:20190705T190000
DTEND:20190706T140000
SUMMARY:Torneig de Frontó
LOCATION:
METHOD:PUBLISH
X-WR-CALNAME:capellades@capellades.cat
X-WR-TIMEZONE:Europe/Madrid
DESCRIPTION:Nova edició del Torneig de Frontó a la Piscina Blava de Capellades.

URI:https://www.capellades.cat/actualitat/agenda/torneig-de-fronto.html
CLASS:PUBLIC
END:VEVENT
END:VCALENDAR
