BEGIN:VCALENDAR
VERSION:2.0
CALSCALE:GREGORIAN
PRODID:-//Diputació de Barcelona//DibaCMS//EN
BEGIN:VEVENT
UID:4485
DTSTAMP:20260419T165907
DTSTART:20190703T220000
DTEND:20190703T235500
SUMMARY:Cinema familiar amb Brave
LOCATION:
METHOD:PUBLISH
X-WR-CALNAME:capellades@capellades.cat
X-WR-TIMEZONE:Europe/Madrid
DESCRIPTION:La Societat La Lliga proposa dimecres de pel·lícula, a partir de les 10 de la nit.

URI:https://www.capellades.cat/actualitat/agenda/cinema-familiar-amb-brave.html
CLASS:PUBLIC
END:VEVENT
END:VCALENDAR
