BEGIN:VCALENDAR
VERSION:2.0
CALSCALE:GREGORIAN
PRODID:-//Diputació de Barcelona//DibaCMS//EN
BEGIN:VEVENT
UID:4483
DTSTAMP:20260421T121934
DTSTART:20190701T160000
DTEND:20190726T180000
SUMMARY:Cursets de natació a la Piscina Blava
LOCATION:
METHOD:PUBLISH
X-WR-CALNAME:capellades@capellades.cat
X-WR-TIMEZONE:Europe/Madrid
DESCRIPTION:Cada dia, de dilluns a divendres, de l'1 al 26 de juliol es fan a la Piscina Blava de Capellades els cursets de natació.

URI:https://www.capellades.cat/actualitat/agenda/cursets-de-natacio-a-la-piscina-blava.html
CLASS:PUBLIC
END:VEVENT
END:VCALENDAR
