BEGIN:VCALENDAR
VERSION:2.0
CALSCALE:GREGORIAN
PRODID:-//Diputació de Barcelona//DibaCMS//EN
BEGIN:VEVENT
UID:4476
DTSTAMP:20260420T042103
DTSTART:20190706T103000
DTEND:20190706T200000
SUMMARY:Dissabte es celebra Sant Cristòfor
LOCATION:
METHOD:PUBLISH
X-WR-CALNAME:capellades@capellades.cat
X-WR-TIMEZONE:Europe/Madrid
DESCRIPTION:Aquest dissabte es celebra a Capellades la festa de Sant Cristòfor, organitzada per la Comissió de Sant Cristòfor en col·laboració amb l'Ajuntament.

URI:https://www.capellades.cat/actualitat/agenda/dissabte-es-celebra-sant-cristofor.html
CLASS:PUBLIC
END:VEVENT
END:VCALENDAR
