BEGIN:VCALENDAR
VERSION:2.0
CALSCALE:GREGORIAN
PRODID:-//Diputació de Barcelona//DibaCMS//EN
BEGIN:VEVENT
UID:4475
DTSTAMP:20260420T055947
DTSTART:20190704T193000
DTEND:20190704T200000
SUMMARY:Concentració de rebuig als assassinats masclistes
LOCATION:
METHOD:PUBLISH
X-WR-CALNAME:capellades@capellades.cat
X-WR-TIMEZONE:Europe/Madrid
DESCRIPTION:Aquest dijous es farà una nova concentració en rebuig als assassinats masclistes que s'han produït les darreres setmanes.

URI:https://www.capellades.cat/actualitat/agenda/4475-concentracio-de-rebuig-als-assassinats-masclistes.html
CLASS:PUBLIC
END:VEVENT
END:VCALENDAR
