BEGIN:VCALENDAR
VERSION:2.0
CALSCALE:GREGORIAN
PRODID:-//Diputació de Barcelona//DibaCMS//EN
BEGIN:VEVENT
UID:4472
DTSTAMP:20260419T152612
DTSTART:20190703T103000
DTEND:20190703T130000
SUMMARY:Visita Oficina Mòbil d'Atenció al Consumidor
LOCATION:
METHOD:PUBLISH
X-WR-CALNAME:capellades@capellades.cat
X-WR-TIMEZONE:Europe/Madrid
DESCRIPTION:Nova visita de l'Oficina Mòbil d'Atenció al Coonsumidor.

URI:https://www.capellades.cat/actualitat/agenda/4472-visita-oficina-mobil-datencio-al-consumidor.html
CLASS:PUBLIC
END:VEVENT
END:VCALENDAR
