BEGIN:VCALENDAR
VERSION:2.0
CALSCALE:GREGORIAN
PRODID:-//Diputació de Barcelona//DibaCMS//EN
BEGIN:VEVENT
UID:4469
DTSTAMP:20260419T200501
DTSTART:20190701T100000
DTEND:20190705T170000
SUMMARY:Campus CFS Capellades
LOCATION:
METHOD:PUBLISH
X-WR-CALNAME:capellades@capellades.cat
X-WR-TIMEZONE:Europe/Madrid
DESCRIPTION:Campus del club de Futbol Sala Capellades de l'1 al 5 de juliol

URI:https://www.capellades.cat/actualitat/agenda/campus-cfs-capellades.html
CLASS:PUBLIC
END:VEVENT
END:VCALENDAR
