BEGIN:VCALENDAR
VERSION:2.0
CALSCALE:GREGORIAN
PRODID:-//Diputació de Barcelona//DibaCMS//EN
BEGIN:VEVENT
UID:4454
DTSTAMP:20260419T155608
DTSTART:20190702T213000
DTEND:20190702T230000
SUMMARY:Concert fi de curs Escola de Música
LOCATION:
METHOD:PUBLISH
X-WR-CALNAME:capellades@capellades.cat
X-WR-TIMEZONE:Europe/Madrid
DESCRIPTION:La Banda, Big Band de l'Escola de Música, de Capellades fa el seu concert de fi de curs el dimarts 2 de juliol.

URI:https://www.capellades.cat/actualitat/agenda/4454-concert-fi-de-curs-escola-de-musica.html
CLASS:PUBLIC
END:VEVENT
END:VCALENDAR
