BEGIN:VCALENDAR
VERSION:2.0
CALSCALE:GREGORIAN
PRODID:-//Diputació de Barcelona//DibaCMS//EN
BEGIN:VEVENT
UID:4439
DTSTAMP:20260419T165614
DTSTART:20190629T190000
DTEND:20190630T030000
SUMMARY:Torna The Lemon Day
LOCATION:
METHOD:PUBLISH
X-WR-CALNAME:capellades@capellades.cat
X-WR-TIMEZONE:Europe/Madrid
DESCRIPTION:El darrer dissabte del mes de juny tornarà a la Font Cuitora de Capellades The Lemon Day.

URI:https://www.capellades.cat/actualitat/agenda/torna-the-lemon-day.html
CLASS:PUBLIC
END:VEVENT
END:VCALENDAR
