BEGIN:VCALENDAR
VERSION:2.0
CALSCALE:GREGORIAN
PRODID:-//Diputació de Barcelona//DibaCMS//EN
BEGIN:VEVENT
UID:4438
DTSTAMP:20260422T062856
DTSTART:20190628T220000
DTEND:20190628T235500
SUMMARY:Un any més de Liceu a la Fresca
LOCATION:
METHOD:PUBLISH
X-WR-CALNAME:capellades@capellades.cat
X-WR-TIMEZONE:Europe/Madrid
DESCRIPTION:Aquest any el Liceu a la fresca serà el divendres 28 de juny, a les 10 de la nit.

URI:https://www.capellades.cat/actualitat/agenda/un-any-mes-de-liceu-a-la-fresca.html
CLASS:PUBLIC
END:VEVENT
END:VCALENDAR
