BEGIN:VCALENDAR
VERSION:2.0
CALSCALE:GREGORIAN
PRODID:-//Diputació de Barcelona//DibaCMS//EN
BEGIN:VEVENT
UID:4437
DTSTAMP:20260422T085752
DTSTART:20190617T180000
DTEND:20190617T190000
SUMMARY:Vols ser mentor/a de persones refugiades?
LOCATION:
METHOD:PUBLISH
X-WR-CALNAME:capellades@capellades.cat
X-WR-TIMEZONE:Europe/Madrid
DESCRIPTION:Si vols ser mentor/a de persones refugiades avui dilluns pots informar-te sobre la formació.

URI:https://www.capellades.cat/actualitat/agenda/vols-ser-mentora-de-persones-refugiades.html
CLASS:PUBLIC
END:VEVENT
END:VCALENDAR
