BEGIN:VCALENDAR
VERSION:2.0
CALSCALE:GREGORIAN
PRODID:-//Diputació de Barcelona//DibaCMS//EN
BEGIN:VEVENT
UID:4432
DTSTAMP:20260421T104134
DTSTART:20190628T213000
DTEND:20190628T235500
SUMMARY:Sopar fi de curs institut Molí de la Vila
LOCATION:
METHOD:PUBLISH
X-WR-CALNAME:capellades@capellades.cat
X-WR-TIMEZONE:Europe/Madrid
DESCRIPTION:La festa de final de curs de l'institut de l'institut Molí de la Vila de Capellades serà el divendres 28 de juny a dos quarts de 10 de la nit.

URI:https://www.capellades.cat/actualitat/agenda/sopar-fi-de-curs-institut-moli-de-la-vila.html
CLASS:PUBLIC
END:VEVENT
END:VCALENDAR
