BEGIN:VCALENDAR
VERSION:2.0
CALSCALE:GREGORIAN
PRODID:-//Diputació de Barcelona//DibaCMS//EN
BEGIN:VEVENT
UID:4431
DTSTAMP:20260419T153123
DTSTART:20190628T210000
DTEND:20190628T235500
SUMMARY:Piscina Nocturna
LOCATION:
METHOD:PUBLISH
X-WR-CALNAME:capellades@capellades.cat
X-WR-TIMEZONE:Europe/Madrid
DESCRIPTION:El darrer divendres de juny es farà la primera edició d'aquesta temporada de la Piscina Nocturna.

URI:https://www.capellades.cat/actualitat/agenda/4431-piscina-nocturna.html
CLASS:PUBLIC
END:VEVENT
END:VCALENDAR
