BEGIN:VCALENDAR
VERSION:2.0
CALSCALE:GREGORIAN
PRODID:-//Diputació de Barcelona//DibaCMS//EN
BEGIN:VEVENT
UID:4430
DTSTAMP:20260419T213904
DTSTART:20190628T193000
DTEND:20190628T203000
SUMMARY:Trobada poètica amb Jaume Colell
LOCATION:
METHOD:PUBLISH
X-WR-CALNAME:capellades@capellades.cat
X-WR-TIMEZONE:Europe/Madrid
DESCRIPTION:Nova trobada poètica el divendres 28 de juny, a les 19:30, al Saló Rosa.

URI:https://www.capellades.cat/actualitat/agenda/trobada-poetica-amb-jaume-colell.html
CLASS:PUBLIC
END:VEVENT
END:VCALENDAR
