BEGIN:VCALENDAR
VERSION:2.0
CALSCALE:GREGORIAN
PRODID:-//Diputació de Barcelona//DibaCMS//EN
BEGIN:VEVENT
UID:4429
DTSTAMP:20260422T021548
DTSTART:20190627T113000
DTEND:20190627T200000
SUMMARY:Dijous, acaben les Festes del Carrer
LOCATION:
METHOD:PUBLISH
X-WR-CALNAME:capellades@capellades.cat
X-WR-TIMEZONE:Europe/Madrid
DESCRIPTION:El dijous és el darrer dia de les Festes del Carrer, amb el Barri de les Places.

URI:https://www.capellades.cat/actualitat/agenda/dijous-acaben-les-festes-del-carrer.html
CLASS:PUBLIC
END:VEVENT
END:VCALENDAR
