BEGIN:VCALENDAR
VERSION:2.0
CALSCALE:GREGORIAN
PRODID:-//Diputació de Barcelona//DibaCMS//EN
BEGIN:VEVENT
UID:4428
DTSTAMP:20260421T122201
DTSTART:20190626T113000
DTEND:20190626T200000
SUMMARY:Dimecres, Barri del Ninot
LOCATION:
METHOD:PUBLISH
X-WR-CALNAME:capellades@capellades.cat
X-WR-TIMEZONE:Europe/Madrid
DESCRIPTION:Els protagonistes del Barri del Ninot són els Capgrossos, tant els de les Festes del Carrer com els de Capellades.

URI:https://www.capellades.cat/actualitat/agenda/4428-dimecres-barri-del-ninot.html
CLASS:PUBLIC
END:VEVENT
END:VCALENDAR
