BEGIN:VCALENDAR
VERSION:2.0
CALSCALE:GREGORIAN
PRODID:-//Diputació de Barcelona//DibaCMS//EN
BEGIN:VEVENT
UID:4427
DTSTAMP:20260421T142748
DTSTART:20190625T113000
DTEND:20190625T200000
SUMMARY:Dimarts, Barri del Gegant
LOCATION:
METHOD:PUBLISH
X-WR-CALNAME:capellades@capellades.cat
X-WR-TIMEZONE:Europe/Madrid
DESCRIPTION:El dimarts segueixen les Festes del Carrer amb el barri més gran, el del Gegant.

URI:https://www.capellades.cat/actualitat/agenda/4427-dimarts-barri-del-gegant.html
CLASS:PUBLIC
END:VEVENT
END:VCALENDAR
