BEGIN:VCALENDAR
VERSION:2.0
CALSCALE:GREGORIAN
PRODID:-//Diputació de Barcelona//DibaCMS//EN
BEGIN:VEVENT
UID:4426
DTSTAMP:20260419T165725
DTSTART:20190625T090000
DTEND:20190625T130000
SUMMARY:Comença el Casal d'estiu
LOCATION:
METHOD:PUBLISH
X-WR-CALNAME:capellades@capellades.cat
X-WR-TIMEZONE:Europe/Madrid
DESCRIPTION:El dimarts 25 de juny comença el Casal d'estiu per a nens i nenes des de P3 fins als 12 anys.

URI:https://www.capellades.cat/actualitat/agenda/comenca-el-casal-destiu.html
CLASS:PUBLIC
END:VEVENT
END:VCALENDAR
