BEGIN:VCALENDAR
VERSION:2.0
CALSCALE:GREGORIAN
PRODID:-//Diputació de Barcelona//DibaCMS//EN
BEGIN:VEVENT
UID:4423
DTSTAMP:20260422T035803
DTSTART:20190624T110000
DTEND:20190624T200000
SUMMARY:Dilluns, barri del Ruc
LOCATION:
METHOD:PUBLISH
X-WR-CALNAME:capellades@capellades.cat
X-WR-TIMEZONE:Europe/Madrid
DESCRIPTION:El dilluns és el dia de Sant Joan i enguany coincidirà amb el Barri del Ruc.

URI:https://www.capellades.cat/actualitat/agenda/4423-dilluns-barri-del-ruc.html
CLASS:PUBLIC
END:VEVENT
END:VCALENDAR
