BEGIN:VCALENDAR
VERSION:2.0
CALSCALE:GREGORIAN
PRODID:-//Diputació de Barcelona//DibaCMS//EN
BEGIN:VEVENT
UID:4422
DTSTAMP:20260422T020442
DTSTART:20190623T183000
DTEND:20190623T213000
SUMMARY:Flama del Canigó
LOCATION:
METHOD:PUBLISH
X-WR-CALNAME:capellades@capellades.cat
X-WR-TIMEZONE:Europe/Madrid
DESCRIPTION:Sant Joan es celebra a Capellades a l'esplana del Capelló.

URI:https://www.capellades.cat/actualitat/agenda/4422-flama-del-canigo.html
CLASS:PUBLIC
END:VEVENT
END:VCALENDAR
