BEGIN:VCALENDAR
VERSION:2.0
CALSCALE:GREGORIAN
PRODID:-//Diputació de Barcelona//DibaCMS//EN
BEGIN:VEVENT
UID:4421
DTSTAMP:20260422T005158
DTSTART:20190623T180000
DTEND:20190623T200000
SUMMARY:Festa infantil amb la Cia. Bufanúvols
LOCATION:
METHOD:PUBLISH
X-WR-CALNAME:capellades@capellades.cat
X-WR-TIMEZONE:Europe/Madrid
DESCRIPTION:Les Festes del Carrer dediquen sempre el diumenge a la tarda a fer una festa per a la quitxalla.

URI:https://www.capellades.cat/actualitat/agenda/festa-infantil-amb-la-cia-bufanuvols.html
CLASS:PUBLIC
END:VEVENT
END:VCALENDAR
