BEGIN:VCALENDAR
VERSION:2.0
CALSCALE:GREGORIAN
PRODID:-//Diputació de Barcelona//DibaCMS//EN
BEGIN:VEVENT
UID:4420
DTSTAMP:20260421T231433
DTSTART:20190622T113000
DTEND:20190622T200000
SUMMARY:Barri de les Bledes
LOCATION:
METHOD:PUBLISH
X-WR-CALNAME:capellades@capellades.cat
X-WR-TIMEZONE:Europe/Madrid
DESCRIPTION:El primer dia oficial de les Festes del Carrer és el dissabte 22 de juny amb el Barri de les Bledes.

URI:https://www.capellades.cat/actualitat/agenda/4420-barri-de-les-bledes.html
CLASS:PUBLIC
END:VEVENT
END:VCALENDAR
