BEGIN:VCALENDAR
VERSION:2.0
CALSCALE:GREGORIAN
PRODID:-//Diputació de Barcelona//DibaCMS//EN
BEGIN:VEVENT
UID:4419
DTSTAMP:20260422T032707
DTSTART:20190621T210000
DTEND:20190621T230000
SUMMARY:Pregó de les Festes del Carrer
LOCATION:
METHOD:PUBLISH
X-WR-CALNAME:capellades@capellades.cat
X-WR-TIMEZONE:Europe/Madrid
DESCRIPTION:Les Festes del Carrer comencen aquest divendres 21 de juny a les 9 del vespre.

URI:https://www.capellades.cat/actualitat/agenda/prego-de-les-festes-del-carrer.html
CLASS:PUBLIC
END:VEVENT
END:VCALENDAR
