BEGIN:VCALENDAR
VERSION:2.0
CALSCALE:GREGORIAN
PRODID:-//Diputació de Barcelona//DibaCMS//EN
BEGIN:VEVENT
UID:4410
DTSTAMP:20260421T202353
DTSTART:20190621T180000
DTEND:20190621T190000
SUMMARY:Concert de fi de curs de l'Escola de Música
LOCATION:
METHOD:PUBLISH
X-WR-CALNAME:capellades@capellades.cat
X-WR-TIMEZONE:Europe/Madrid
DESCRIPTION:El divendres 21 de juny, Concert de Fi de Curs de l'Escola de Música.

URI:https://www.capellades.cat/actualitat/agenda/4410-concert-de-fi-de-curs-de-lescola-de-musica.html
CLASS:PUBLIC
END:VEVENT
END:VCALENDAR
