BEGIN:VCALENDAR
VERSION:2.0
CALSCALE:GREGORIAN
PRODID:-//Diputació de Barcelona//DibaCMS//EN
BEGIN:VEVENT
UID:4409
DTSTAMP:20260422T050330
DTSTART:20190620T190000
DTEND:20190620T200000
SUMMARY:Trobada del Club de Lectura
LOCATION:
METHOD:PUBLISH
X-WR-CALNAME:capellades@capellades.cat
X-WR-TIMEZONE:Europe/Madrid
DESCRIPTION:Aquest mes de juny la trobada del Club de Lectura de la Biblioteca El Safareig serà per parlar sobre el llibre "El és blau, la terra blanca", d'Hiromi Kawakami.

URI:https://www.capellades.cat/actualitat/agenda/trobada-del-club-de-lectura.html
CLASS:PUBLIC
END:VEVENT
END:VCALENDAR
